BEGIN:VCALENDAR
VERSION:2.0
PRODID:-//Department of Chemical Engineering - ECPv6.15.20//NONSGML v1.0//EN
CALSCALE:GREGORIAN
METHOD:PUBLISH
X-WR-CALNAME:Department of Chemical Engineering
X-ORIGINAL-URL:https://che.nucoe.madebyvital.com
X-WR-CALDESC:Events for Department of Chemical Engineering
REFRESH-INTERVAL;VALUE=DURATION:PT1H
X-Robots-Tag:noindex
X-PUBLISHED-TTL:PT1H
BEGIN:VTIMEZONE
TZID:America/New_York
BEGIN:DAYLIGHT
TZOFFSETFROM:-0500
TZOFFSETTO:-0400
TZNAME:EDT
DTSTART:20210314T070000
END:DAYLIGHT
BEGIN:STANDARD
TZOFFSETFROM:-0400
TZOFFSETTO:-0500
TZNAME:EST
DTSTART:20211107T060000
END:STANDARD
BEGIN:DAYLIGHT
TZOFFSETFROM:-0500
TZOFFSETTO:-0400
TZNAME:EDT
DTSTART:20220313T070000
END:DAYLIGHT
BEGIN:STANDARD
TZOFFSETFROM:-0400
TZOFFSETTO:-0500
TZNAME:EST
DTSTART:20221106T060000
END:STANDARD
BEGIN:DAYLIGHT
TZOFFSETFROM:-0500
TZOFFSETTO:-0400
TZNAME:EDT
DTSTART:20230312T070000
END:DAYLIGHT
BEGIN:STANDARD
TZOFFSETFROM:-0400
TZOFFSETTO:-0500
TZNAME:EST
DTSTART:20231105T060000
END:STANDARD
END:VTIMEZONE
BEGIN:VTIMEZONE
TZID:America/Halifax
BEGIN:DAYLIGHT
TZOFFSETFROM:-0400
TZOFFSETTO:-0300
TZNAME:ADT
DTSTART:20180311T060000
END:DAYLIGHT
BEGIN:STANDARD
TZOFFSETFROM:-0300
TZOFFSETTO:-0400
TZNAME:AST
DTSTART:20181104T050000
END:STANDARD
BEGIN:DAYLIGHT
TZOFFSETFROM:-0400
TZOFFSETTO:-0300
TZNAME:ADT
DTSTART:20190310T060000
END:DAYLIGHT
BEGIN:STANDARD
TZOFFSETFROM:-0300
TZOFFSETTO:-0400
TZNAME:AST
DTSTART:20191103T050000
END:STANDARD
BEGIN:DAYLIGHT
TZOFFSETFROM:-0400
TZOFFSETTO:-0300
TZNAME:ADT
DTSTART:20200308T060000
END:DAYLIGHT
BEGIN:STANDARD
TZOFFSETFROM:-0300
TZOFFSETTO:-0400
TZNAME:AST
DTSTART:20201101T050000
END:STANDARD
END:VTIMEZONE
BEGIN:VEVENT
DTSTART;TZID=America/New_York:20220311T080000
DTEND;TZID=America/New_York:20220311T170000
DTSTAMP:20260422T164613
CREATED:20220303T152354Z
LAST-MODIFIED:20220303T152354Z
UID:3978-1646985600-1647018000@che.nucoe.madebyvital.com
SUMMARY:New England Complex Fluids Workshop
DESCRIPTION:The New England Complex Fluids Workshop encourages collaboration among researchers from industry and academia studying soft condensed matter\, broadly speaking\, with applications extending to biomedical sciences and industry. Workshops consist of invited talks and several sessions of contributed “sound-bites” which are approximately three minutes long\, in which students and postdocs are invited to introduce their research to the community. Join us for an engaging day of scientific research! \nThis event is free of charge\, however\, you must register by March 8th to attend. New registrants must create a member profile to gain access to registration. More information on past and future meetings can be found at complexfluids.org. \nThis event is sponsored by the Northeastern University College of Engineering and the Departments of Chemical and Mechanical & Industrial Engineering.
URL:https://che.nucoe.madebyvital.com/event/new-england-complex-fluids-workshop/
LOCATION:Raytheon Amphitheater (240 Egan)
END:VEVENT
BEGIN:VEVENT
DTSTART;TZID=America/New_York:20220303T140000
DTEND;TZID=America/New_York:20220303T163000
DTSTAMP:20260422T164613
CREATED:20220118T182703Z
LAST-MODIFIED:20220118T182703Z
UID:3908-1646316000-1646325000@che.nucoe.madebyvital.com
SUMMARY:COE PhD Expo
DESCRIPTION:The College of Engineering is excited to announce the fourth annual COE PhD Research Expo\, and we invite all COE PhD students to submit a poster abstract. This is a wonderful opportunity to highlight your research and meet alumni\, academic\, and industry leaders. \nThe expo will take place during COE’s Graduate Candidate Day\, where PhD candidates could learn first-hand about the exciting research our PhD students are conducting. \n***We are closely monitoring COVID-related updates and abiding by the University policies to ensure safe attendance of the event. Should the expo be conducted virtually\, we will send out follow-up communications about the updated logistics of the event. \nSubmit an Abstract. Deadline: January 24\, 2022\nIn consultation with your research advisor\, submit a poster abstract. We welcome posters that have been presented elsewhere. \nAbstract word limit is 200 words. Authors accepted to participate will be notified by Feb. 2nd of their selection. \nPrepare with a Workshop In addition\, the COE Communications Lab will host workshops on the following dates: \nAbstract – Thursday\, January 20 at 5pm \n\nJoin with Zoom Link\n\nData Visualization – Thursday\, January 27 at 5pm \n\nJoin with Zoom Link\n\nPoster preparation – Thursday\, February 3 at 5pm \n\nJoin with Zoom Link\n\nElevator Pitch/ Presentation – Thursday\, February 24 at 5pm \n\nJoin with Zoom Link\n\nWe are excited to offer this opportunity to showcase the research of our PhD students and to provide a platform for you to gain valuable experience and network with academic and industry leaders.
URL:https://che.nucoe.madebyvital.com/event/coe-phd-expo/
LOCATION:Raytheon Amphitheater (240 Egan)
ORGANIZER;CN="Graduate School of Engineering":MAILTO:coe-gradadmissions@northeastern.edu
END:VEVENT
BEGIN:VEVENT
DTSTART;TZID=America/Halifax:20190918T173000
DTEND;TZID=America/Halifax:20190918T183000
DTSTAMP:20260422T164613
CREATED:20190826T203611Z
LAST-MODIFIED:20190826T234135Z
UID:2868-1568827800-1568831400@che.nucoe.madebyvital.com
SUMMARY:COE Global Co-op Information Session
DESCRIPTION:Join the COE Global Co-op team in learning about co-op opportunities abroad for Spring/Summer I 2020. Topics discussed will include- Search techniques and global positions in your field; What to consider when interested in Global Co-op; Information on logistics\, ie. housing\, transportation\, and safety; Tips\, tricks\, and resources to help get you there! You will also meet and hear from students returning from their Global Co-op. \nRSVP on the NUcareers Events Calendar. \nAttendance to one of the sessions is REQUIRED if you plan to do a Global Co-op in Spring 2020. Please reach out to Sally Conant\, Global Co-op Coordinator\, s.conant@northeastern.edu or Aryn Tomlinson\, Global Co-op Counselor\, a.tomlinson@northeastern.edu for additional information.
URL:https://che.nucoe.madebyvital.com/event/coe-global-co-op-information-session/
LOCATION:Raytheon Amphitheater (240 Egan)
END:VEVENT
END:VCALENDAR