BEGIN:VCALENDAR
VERSION:2.0
PRODID:-//Department of Chemical Engineering - ECPv6.15.20//NONSGML v1.0//EN
CALSCALE:GREGORIAN
METHOD:PUBLISH
X-WR-CALNAME:Department of Chemical Engineering
X-ORIGINAL-URL:https://che.nucoe.madebyvital.com
X-WR-CALDESC:Events for Department of Chemical Engineering
REFRESH-INTERVAL;VALUE=DURATION:PT1H
X-Robots-Tag:noindex
X-PUBLISHED-TTL:PT1H
BEGIN:VTIMEZONE
TZID:America/New_York
BEGIN:DAYLIGHT
TZOFFSETFROM:-0500
TZOFFSETTO:-0400
TZNAME:EDT
DTSTART:20200308T070000
END:DAYLIGHT
BEGIN:STANDARD
TZOFFSETFROM:-0400
TZOFFSETTO:-0500
TZNAME:EST
DTSTART:20201101T060000
END:STANDARD
BEGIN:DAYLIGHT
TZOFFSETFROM:-0500
TZOFFSETTO:-0400
TZNAME:EDT
DTSTART:20210314T070000
END:DAYLIGHT
BEGIN:STANDARD
TZOFFSETFROM:-0400
TZOFFSETTO:-0500
TZNAME:EST
DTSTART:20211107T060000
END:STANDARD
BEGIN:DAYLIGHT
TZOFFSETFROM:-0500
TZOFFSETTO:-0400
TZNAME:EDT
DTSTART:20220313T070000
END:DAYLIGHT
BEGIN:STANDARD
TZOFFSETFROM:-0400
TZOFFSETTO:-0500
TZNAME:EST
DTSTART:20221106T060000
END:STANDARD
BEGIN:DAYLIGHT
TZOFFSETFROM:-0500
TZOFFSETTO:-0400
TZNAME:EDT
DTSTART:20230312T070000
END:DAYLIGHT
BEGIN:STANDARD
TZOFFSETFROM:-0400
TZOFFSETTO:-0500
TZNAME:EST
DTSTART:20231105T060000
END:STANDARD
END:VTIMEZONE
BEGIN:VEVENT
DTSTART;TZID=America/New_York:20220629T120000
DTEND;TZID=America/New_York:20220629T143000
DTSTAMP:20260422T165946
CREATED:20220621T210230Z
LAST-MODIFIED:20220621T210230Z
UID:4067-1656504000-1656513000@che.nucoe.madebyvital.com
SUMMARY:CILS Seminar & Demo: Nanosurf Drive AFM
DESCRIPTION:Come learn about Nanosurf’s DriveAFM\, a tip-scanning atomic force microscope used for all areas of applications from materials to life science. \nAn instrument demonstration will follow in the CILS Core Facility in the ISEC basement\, 090 from 1:30-2:30pm. \nThe DriveAFM overcomes drawbacks of other tip-scanning instruments and provides atomic resolution together with fast scanning\, fast force spectroscopy\, and large scan sizes up to 100 µm. \n  \nTopic: CILS Seminar & Demo: Nanosurf DriveAFM\nTime: Jun 29\, 2022 12:00 PM Eastern Time (US and Canada) \nJoin Zoom Meeting\nhttps://northeastern.zoom.us/j/91205821278 \nMeeting ID: 912 0582 1278\nOne tap mobile\n+13017158592\,\,91205821278# US (Washington DC)\n+13126266799\,\,91205821278# US (Chicago) \nJoin by Skype for Business\nhttps://northeastern.zoom.us/skype/91205821278 \n 
URL:https://che.nucoe.madebyvital.com/event/cils-seminar-demo-nanosurf-drive-afm/
LOCATION:136 ISEC\, 360 Huntington Ave\, 136 ISEC\, Boston\, MA\, 02115\, United States
GEO:42.3401758;-71.0892797
X-APPLE-STRUCTURED-LOCATION;VALUE=URI;X-ADDRESS=136 ISEC 360 Huntington Ave 136 ISEC Boston MA 02115 United States;X-APPLE-RADIUS=500;X-TITLE=360 Huntington Ave\, 136 ISEC:geo:-71.0892797,42.3401758
END:VEVENT
BEGIN:VEVENT
DTSTART;TZID=America/New_York:20220420T120000
DTEND;TZID=America/New_York:20220420T133000
DTSTAMP:20260422T165948
CREATED:20220413T135133Z
LAST-MODIFIED:20220413T135148Z
UID:4007-1650456000-1650461400@che.nucoe.madebyvital.com
SUMMARY:CILS Seminar: BioBus
DESCRIPTION:Come listen to Mollie Thurman\, Chief Community Scientist\, speak about the mission of BioBus\, a renovated school bus that brings science to underprivileged schools/communities\, and how graduate students of Northeastern can get involved.\n*New physical location launching in the CILS Core Facility. \nRegistration Link: https://forms.gle/ismTg26hdmqiCNLN6 \nTime: April 20th\, 2022 at 12-1:30pm \nLocation: ISEC 142 or virtual \n(Zoom link will be shown in the confirmation message once you complete this form and again in a reminder email 24 hours before the event)
URL:https://che.nucoe.madebyvital.com/event/cils-seminar-biobus/
LOCATION:142 ISEC\, 360 Huntington Ave\, 142 ISEC\, Boston\, MA\, 02115\, United States
GEO:42.3401758;-71.0892797
X-APPLE-STRUCTURED-LOCATION;VALUE=URI;X-ADDRESS=142 ISEC 360 Huntington Ave 142 ISEC Boston MA 02115 United States;X-APPLE-RADIUS=500;X-TITLE=360 Huntington Ave\, 142 ISEC:geo:-71.0892797,42.3401758
END:VEVENT
BEGIN:VEVENT
DTSTART;TZID=America/New_York:20220224T120000
DTEND;TZID=America/New_York:20220224T133000
DTSTAMP:20260422T165948
CREATED:20220210T211747Z
LAST-MODIFIED:20220210T211747Z
UID:3938-1645704000-1645709400@che.nucoe.madebyvital.com
SUMMARY:CILS Seminar: Photoacoustics from VisualSonics
DESCRIPTION:Join this seminar to learn about the capabilities of photoacoustics in research ranging from oncology and molecular biology to cardiology and neurobiology. \nThe presentation from VisualSonics will be followed by a student presentation from Kevin Bardon in the Clark Lab\, focusing on where his research will go with this technology. Visit Vevo LAZR-X for more details about the instrument.
URL:https://che.nucoe.madebyvital.com/event/cils-seminar-photoacoustics-from-visualsonics/
END:VEVENT
BEGIN:VEVENT
DTSTART;TZID=America/New_York:20211214T120000
DTEND;TZID=America/New_York:20211214T130000
DTSTAMP:20260422T165948
CREATED:20211207T153629Z
LAST-MODIFIED:20211207T153629Z
UID:3882-1639483200-1639486800@che.nucoe.madebyvital.com
SUMMARY:CILS Seminar: arivis™\, Imaging Software
DESCRIPTION:Join this seminar to learn how to make microscopy image analysis more straightforward. An arivis™ representative will be presenting on topics such as image segmentation\, multiview registration\, storyboard\, colocalization\, and image processing (denoise\, decon\, etc).
URL:https://che.nucoe.madebyvital.com/event/cils-seminar-arivis-imaging-software/
END:VEVENT
END:VCALENDAR